BEGIN:VCALENDAR
VERSION:2.0
PRODID:-//ChamberMaster//Event Calendar 2.0//EN
METHOD:PUBLISH
X-PUBLISHED-TTL:P1H
REFRESH-INTERVAL:P1H
CALSCALE:GREGORIAN
BEGIN:VTIMEZONE
TZID:America/Chicago
BEGIN:DAYLIGHT
RRULE:FREQ=YEARLY;BYMONTH=3;BYDAY=2SU
DTSTART:20070101T000000
TZOFFSETFROM:-0600
TZOFFSETTO:-0500
TZNAME:Central Daylight Time
END:DAYLIGHT
BEGIN:STANDARD
RRULE:FREQ=YEARLY;BYMONTH=11;BYDAY=1SU
DTSTART:20070101T000000
TZOFFSETFROM:-0500
TZOFFSETTO:-0600
TZNAME:Central Standard Time
END:STANDARD
END:VTIMEZONE
BEGIN:VEVENT
DTSTART;TZID=America/Chicago:20260421T090000
DTEND;TZID=America/Chicago:20260421T103000
X-MICROSOFT-CDO-ALLDAYEVENT:FALSE
SUMMARY:SACAC Wide Virtual Drive-in Workshop: The SACAC State of the Union
DESCRIPTION:The SACAC State of the Union is a virtual member-wide address designed to connect\, inform\, and engage our association following the annual conference. This session provides members—especially those who were unable to attend conference—the opportunity to hear from our newly elected President about their vision and priorities for the year ahead\, receive updates from SACAC and NACAC\, and learn about ways to get involved through committees and volunteer opportunities.
X-ALT-DESC;FMTTYPE=text/html:The SACAC State of the Union is a virtual member-wide address designed to connect\, inform\, and engage our association following the annual conference. This session provides members—especially those who were unable to attend conference—the opportunity to hear from our newly elected President about their vision and priorities for the year ahead\, receive updates from SACAC and NACAC\, and learn about ways to get involved through committees and volunteer opportunities.
LOCATION:
UID:e.3967.1425032
SEQUENCE:3
DTSTAMP:20260420T083950Z
URL:https://members.sacac.org/event-calendar/Details/sacac-wide-virtual-drive-in-workshop-the-sacac-state-of-the-union-1685078?sourceTypeId=Hub
END:VEVENT
END:VCALENDAR
